BEGIN:VCALENDAR
VERSION:2.0
PRODID:-//AES-Los Angeles - ECPv6.15.13.1//NONSGML v1.0//EN
CALSCALE:GREGORIAN
METHOD:PUBLISH
X-WR-CALNAME:AES-Los Angeles
X-ORIGINAL-URL:https://aesla.org
X-WR-CALDESC:Events for AES-Los Angeles
REFRESH-INTERVAL;VALUE=DURATION:PT1H
X-Robots-Tag:noindex
X-PUBLISHED-TTL:PT1H
BEGIN:VTIMEZONE
TZID:America/Los_Angeles
BEGIN:DAYLIGHT
TZOFFSETFROM:-0800
TZOFFSETTO:-0700
TZNAME:PDT
DTSTART:20250309T100000
END:DAYLIGHT
BEGIN:STANDARD
TZOFFSETFROM:-0700
TZOFFSETTO:-0800
TZNAME:PST
DTSTART:20251102T090000
END:STANDARD
BEGIN:DAYLIGHT
TZOFFSETFROM:-0800
TZOFFSETTO:-0700
TZNAME:PDT
DTSTART:20260308T100000
END:DAYLIGHT
BEGIN:STANDARD
TZOFFSETFROM:-0700
TZOFFSETTO:-0800
TZNAME:PST
DTSTART:20261101T090000
END:STANDARD
BEGIN:DAYLIGHT
TZOFFSETFROM:-0800
TZOFFSETTO:-0700
TZNAME:PDT
DTSTART:20270314T100000
END:DAYLIGHT
BEGIN:STANDARD
TZOFFSETFROM:-0700
TZOFFSETTO:-0800
TZNAME:PST
DTSTART:20271107T090000
END:STANDARD
END:VTIMEZONE
BEGIN:VEVENT
DTSTART;TZID=America/Los_Angeles:20260210T181500
DTEND;TZID=America/Los_Angeles:20260210T210000
DTSTAMP:20260421T033923
CREATED:20260117T084801Z
LAST-MODIFIED:20260123T112108Z
UID:376-1770747300-1770757200@aesla.org
SUMMARY:Spatial Composition - The New Frontier
DESCRIPTION:Join AES LA and colleagues as we explore SPACE as compositional element – and its effects on audio production at Dolby’s Hollywood Theater\n\n\n\nJoin the AES Los Angeles Section and other music industry colleagues as we explore SPACE as compositional element – and its effects on audio production – at Dolby’s Hollywood Vine screening room. \nComposers have been using melody\, rhythm\, and harmony for thousands of years. Musique concrète expanded the use of timbre 75 years ago. Are we at the verge of another musical disruption? What if\, using space as a compositional tool\, songwriters\, composers\, and producers not only mixed but composed in immersive systems? Can SPACE become a new element of music? \nFollowing the tremendous success of its recent premier in San Francisco\, AES Los Angeles invites you to this industry-exclusive event: the latest research presentation and demonstration about the use of space in music composition and production\, by composer Julius Dobos and producer BZ Lewis. \nAudio engineers\, producers\, composers\, songwriters and music creators of all disciplines are encouraged to join us to network\, explore SPACE as an element of music composition\, and experience demonstrations of new\, spatially-composed music & immersive mixes in the Dolby Cinema. \n \nIn person only. This is a free event.
URL:https://aesla.org/event/spatial-composition-the-new-frontier/
LOCATION:Dolby Screening Room Hollywood Vine\, 6321 Hollywood Blvd\, Los Angeles\, CA\, 90028\, United States
CATEGORIES:Section Meetings
ATTACH;FMTTYPE=image/png:https://aesla.org/wp-content/uploads/2026/01/Dolby_AESLA_Email_Header_1200x690.png
END:VEVENT
END:VCALENDAR